BEGIN:VCALENDAR
VERSION:2.0
PRODID:-//wp-events-plugin.com//7.2.3.1//EN
TZID:America/New_York
X-WR-TIMEZONE:America/New_York
BEGIN:VEVENT
UID:37@atlraptors.com
DTSTART;TZID=America/New_York;VALUE=DATE:20260919
DTEND;TZID=America/New_York;VALUE=DATE:20260921
DTSTAMP:20260108T134656Z
URL:https://atlraptors.com/events/talladega-national-forest-trail-day-opti
 onal-overnight-2/
SUMMARY:Talladega National Forest Trail Day + Optional Overnight
DESCRIPTION:Talladega Forest Trail Day 2026 - Sept 19-20\nGet ready for an 
 Alabama adventure with the Atlanta Raptors! Join us on September 19th for 
 a thrilling day of off-road excitement in the beautiful Talladega and Chea
 ha Forests. Whether you're a seasoned trailblazer or new to the off-road s
 cene\, this event is all about camaraderie\, exploration\, and fun—safel
 y conquering the trails together.\n\nWhat to Expect:\n\n 	Scenic Forest Ro
 ads: Kick off the day with a brisk ride along forestry roads\, featuring s
 ome light rock crawling sections that will challenge your skills and offer
  stunning views. Our route leads to a breathtaking overlook where we'll st
 op for a well-deserved lunch break.\n 	Trail Continuation: After lunch\, t
 he adventure continues! We'll navigate additional forest roads as we make 
 our way to Cheaha State Park. For those choosing to stay overnight\, this 
 is your chance to set up camp and immerse yourself in the tranquility of n
 ature.\n 	Flexible Participation: Not staying overnight? No worries! You c
 an choose to explore more trails or head home whenever you're ready. Cheah
 a State Park is conveniently located just 20 minutes from I-20\, making yo
 ur journey back easy and accessible.\n 	Safety First: We take safety serio
 usly and recommend all participants equip their Raptors with chase lights 
 due to potential dusty conditions. Visibility is crucial for a safe and en
 joyable ride. Check out the temporary and affordable chase light options b
 elow if you need suggestions.\n\nFamily-Friendly Fun:\nThis is a family-fr
 iendly event\, but please consider the limitations of your passengers\, as
  the trails can be bumpy and the ride rougher for those in the passenger s
 eat. We want everyone to have a great time\, so plan accordingly!\n\nEvent
  Schedule:\n\n 	Optional 8:30 AM EST Atlanta Departure to Oxford\n\n 	Loca
 tion: 1000 Thornton Rd\, Lithia Springs\, GA 30122 (Home Depot off I-20)\n
 \n\n 	9:00 AM CST - Rally Point in Oxford\, Alabama\n\n 	Location: 130 Elm
  St\, Oxford\, AL 36203\n 	Agenda: Trail briefing and member introductions
 .\n\n\n 	9:30 AM CST - Trail Departure\n 	12:30 PM CST - Lunch at Lookout 
 over Talladega National Park\n\n 	Details: Enjoy a scenic lunch with panor
 amic views. Don't forget to bring your lunch\, beverages\, and snacks!\n\n
 \n 	1:00 PM CST - Roll Out\n 	Approx 3:30 PM CST - Arrival at Cheaha State
  Park\n\n 	Location: 19644 AL-281\, Delta\, AL 36258\n\n\n 	4:00 PM CST - 
 Camp Setup and Exploration\n\n 	For those staying overnight\, Please bring
  your planned dinner\, there are also restaurant options near i-2o though 
 they are limited.\n 	The State park offers a museum\, walking trails\, and
  a lake. State Park Website Link can provide all details\, please make sur
 e to make a camp site reservation\n\n\n\nRecommended Gear:\n\n 	Chase Ligh
 ts: Due to the potential for dusty conditions\, chase lights are highly re
 commended. For a temporary and affordable option\, consider the following:
 \nJDS Customs Offroad Follow Light - Amber Suction Mounted\n\n 	Make sure 
 to contact sponsors ORW Marietta and Total Offroad Atlanta our group spons
 ors for additional suggestions on chase light suggestions.\n\n\n 	Addition
 al Recommendations: Feel free to contact ORW Marietta or Total Offroad for
  your offroad needs.\n\nWhat to Bring:\n\n 	Lunch\, beverages\, and snacks
 \n 	Camping gear (for those staying overnight)\n 	Personal items and anyth
 ing else you'll need for a day of adventure!\n\nWe can't wait to see you t
 here for a day of thrills\, laughter\, and memorable moments. Sign up toda
 y and let’s make this trail day one to remember!
ATTACH;FMTTYPE=image/jpeg:https://atlraptors.com/wp-content/uploads/2023/0
 8/Ar-Talladega-Raptor-Event.webp
CATEGORIES:Public Trails
LOCATION:Oxford\, AL\, 130 Elm St\, Oxford\, AL \, 36203\, United States
GEO:33.601598;-85.831819
X-APPLE-STRUCTURED-LOCATION;VALUE=URI;X-ADDRESS=130 Elm St\, Oxford\, AL \,
  36203\, United States;X-APPLE-RADIUS=100;X-TITLE=Oxford\, AL:geo:33.60159
 8,-85.831819
END:VEVENT
BEGIN:VTIMEZONE
TZID:America/New_York
X-LIC-LOCATION:America/New_York
BEGIN:DAYLIGHT
DTSTART:20260308T030000
TZOFFSETFROM:-0500
TZOFFSETTO:-0400
TZNAME:EDT
END:DAYLIGHT
END:VTIMEZONE
END:VCALENDAR