BEGIN:VCALENDAR
VERSION:2.0
PRODID:-//wp-events-plugin.com//7.2.3.1//EN
TZID:America/New_York
X-WR-TIMEZONE:America/New_York
BEGIN:VEVENT
UID:41@atlraptors.com
DTSTART;TZID=America/New_York:20260307T110000
DTEND;TZID=America/New_York:20260307T140000
DTSTAMP:20260111T212604Z
URL:https://atlraptors.com/events/social-event-orw/
SUMMARY:Social Event - ORW Sales & Social
DESCRIPTION:ORW Sales &amp\; Social\nHosted by Platinum Sponsor: ORW Mariet
 ta\nRegister as an Atlanta Raptor &amp\; Unlock Exclusive Perks!\nEvent De
 tails\n📅 Date: Saturday March 7th 2026⏰ Time: 9:00 AM – 3:00 PM (At
 lanta Raptors Admin Team on-site from 11:00 AM – 2:00 PM)📍 Location: 
 911 Cobb Pkwy N\, Marietta\, GA 30062📞 Contact: (770) 651-0266\nFor que
 stions\, contact ORW Marietta at (770) 651-0266.
ATTACH;FMTTYPE=image/jpeg:https://atlraptors.com/wp-content/uploads/2023/0
 8/Social-2-1.jpeg
CATEGORIES:Partner Events
LOCATION:ORW Marietta\, 911 Cobb Pkwy N\, Marietta\, GA \, 30062\, United S
 tates
GEO:33.972744;-84.542941
X-APPLE-STRUCTURED-LOCATION;VALUE=URI;X-ADDRESS=911 Cobb Pkwy N\, Marietta\
 , GA \, 30062\, United States;X-APPLE-RADIUS=100;X-TITLE=ORW Marietta:geo:
 33.972744,-84.542941
END:VEVENT
BEGIN:VTIMEZONE
TZID:America/New_York
X-LIC-LOCATION:America/New_York
BEGIN:STANDARD
DTSTART:20251102T010000
TZOFFSETFROM:-0400
TZOFFSETTO:-0500
TZNAME:EST
END:STANDARD
END:VTIMEZONE
END:VCALENDAR