BEGIN:VCALENDAR
VERSION:2.0
PRODID:-//wp-events-plugin.com//7.2.3.1//EN
TZID:America/New_York
X-WR-TIMEZONE:America/New_York
BEGIN:VEVENT
UID:40@atlraptors.com
DTSTART;TZID=America/New_York:20260301T100000
DTEND;TZID=America/New_York:20260301T130000
DTSTAMP:20260225T202530Z
URL:https://atlraptors.com/events/social-event-cumming-city-center/
SUMMARY:Social Event @ Cumming City Center [Rescheduled]
DESCRIPTION:Atlanta Raptors Social Meetup\nSunday\, March 1st 2026\n\nWind 
 down your weekend with horsepower and camaraderie!\n\nJoin the Atlanta Rap
 tors for a social meetup on Sunday\, February 15\, 2026 from 10am to 1 pm 
 at Cumming City Center\, GA.\n\nThis is your chance to meet fellow Raptor 
 owners\, connect with like-minded enthusiasts\, and learn more about our g
 roup and upcoming off-road events.\n\nWhether you are a longtime member or
  just discovering Atlanta Raptors\, we welcome you to come hang out\, talk
  trucks\, and get a feel for the community!\n\n🐶 Family and dog-friendl
 y\, bring the whole crew!\n☕️ Plenty of coffee shops\, restaurants\, a
 nd breweries nearby to grab a bite before or after!\n🛻 Parking will tak
 e place behind Santa Maria Tapas Restaurant.\n\n 	410 Vision Dr\, Cumming\
 , GA 30040\n\nMark your calendars\, spread the word\, and let’s make it 
 a great morning!
ATTACH;FMTTYPE=image/jpeg:https://atlraptors.com/wp-content/uploads/2026/0
 1/SocialMarch2026Image.jpeg
CATEGORIES:Social
END:VEVENT
BEGIN:VTIMEZONE
TZID:America/New_York
X-LIC-LOCATION:America/New_York
BEGIN:STANDARD
DTSTART:20251102T010000
TZOFFSETFROM:-0400
TZOFFSETTO:-0500
TZNAME:EST
END:STANDARD
END:VTIMEZONE
END:VCALENDAR