BEGIN:VCALENDAR
VERSION:2.0
PRODID:-//wp-events-plugin.com//7.2.3.1//EN
TZID:America/New_York
X-WR-TIMEZONE:America/New_York
BEGIN:VEVENT
UID:34@atlraptors.com
DTSTART;TZID=America/New_York:20251207T073000
DTEND;TZID=America/New_York:20251207T120000
DTSTAMP:20251016T230451Z
URL:https://atlraptors.com/events/social-event-caffeine-and-octane-2/
SUMMARY:Social Event @ Caffeine and Octane
DESCRIPTION:Atlanta Raptors – Club Showcase with Caffeine and Octane\nDat
 e: Saturday\, December 7th\, 2025Location: Town Center at Cobb – 400 Ern
 est W Barrett Pkwy NW\, Kennesaw\, GA 30144\n\n\n\n\nEvent Overview\nJoin 
 Atlanta Raptors for our final event of the year as we showcase our trucks 
 at Caffeine and Octane\, the largest monthly car show in the United States
 !C&amp\;O has allocated 30 parking spots exclusively for our club at their
  December Christmas event — so come ready to represent and spread some h
 oliday cheer.\nDress up your Raptor with a festive theme — lights\, prop
 s\, or creative decorations are all encouraged. The Best Themed Raptor wil
 l be announced at 11:00 AM\, so bring your holiday spirit and creativity!\
 nThis is an incredible opportunity to display our trucks to the greater At
 lanta car community and grow our presence among enthusiasts.\n\n\n\n\nSche
 dule\n7:15 – 7:45 AM: Rally Point &amp\; Staging📍 Burlington Parking 
 Lot2911 George Busbee Pkwy NW\, Kennesaw\, GA 30144\n7:45 AM: Group Roll-O
 ut\n7:55 AM: Arrival at Caffeine &amp\; Octane📍 Town Center at Cobb400 
 Ernest W Barrett Pkwy NW\, Kennesaw\, GA 30144\n(If you’re unable to mee
 t at the rally point\, you may join the group from the main road\, but thi
 s is not recommended. Atlanta Raptors will use a QR code for group entry\,
  allowing all trucks to enter together.)\n11:00 AM: Best Themed Raptor Ann
 ouncement\nIf you are running late\, please message one of the admins the 
 morning of so we can hold your parking spot.\n\n\n\n\nToy Drive for Atlant
 a Children's Shelter 🎁\nOnce again\, we’re proud to support the Atlan
 ta Children’s Shelter (ACS) — an organization dedicated to helping hom
 eless children and families by providing education and pathways to long-te
 rm stability.\nWe’ll be collecting new\, unwrapped toys during the event
 .Learn more about ACS and their mission here: https://acsatl.org\n\n\n“T
 o break the cycle of poverty for families facing homelessness by building 
 pathways to long-term self-sufficiency and providing quality early childho
 od education.”\n\n\n\n\nAdditional Info\n\n 	\nVisit www.caffeineandocta
 ne.com to learn more about the show.\n\n 	\nParking is limited to 30 vehic
 les — sign up early to reserve your spot.\n\n 	\nThis event is open to A
 tlanta Raptors verified members only.\n\n
ATTACH;FMTTYPE=image/jpeg:https://atlraptors.com/wp-content/uploads/2025/0
 8/f150-raptor-for-christmas.png
CATEGORIES:Social
LOCATION:C&O Town Center at Cobb\, 400 Ernest W Barrett Pkwy Nw\, Kennesaw\
 , Georgia\, 30144\, United States
GEO:34.01771;-84.564475
X-APPLE-STRUCTURED-LOCATION;VALUE=URI;X-ADDRESS=400 Ernest W Barrett Pkwy N
 w\, Kennesaw\, Georgia\, 30144\, United States;X-APPLE-RADIUS=100;X-TITLE=
 C&O Town Center at Cobb:geo:34.01771,-84.564475
END:VEVENT
BEGIN:VTIMEZONE
TZID:America/New_York
X-LIC-LOCATION:America/New_York
BEGIN:STANDARD
DTSTART:20251102T010000
TZOFFSETFROM:-0400
TZOFFSETTO:-0500
TZNAME:EST
END:STANDARD
END:VTIMEZONE
END:VCALENDAR