BEGIN:VCALENDAR
VERSION:2.0
PRODID:-//wp-events-plugin.com//7.2.3.1//EN
TZID:America/New_York
X-WR-TIMEZONE:America/New_York
BEGIN:VEVENT
UID:32@atlraptors.com
DTSTART;TZID=America/New_York;VALUE=DATE:20260613
DTEND;TZID=America/New_York;VALUE=DATE:20260615
DTSTAMP:20260108T134037Z
URL:https://atlraptors.com/events/raptor-rampage-2026/
SUMMARY:Raptor Rampage 2026
DESCRIPTION:2026 Raptor Rampage at Iron Mountain\n\nGear up for an exhilara
 ting two-day offroad adventure exclusively for Atlanta Raptors members.\n\
 nParticipate with your Ford Raptor F-150\, Bronco\, or Ranger and experien
 ce the rugged trails and stunning landscapes of Iron Mountain Offroad Park
 .\n\nEvent Dates: Saturday June 13 - Sunday June 14.\n\nLocation: Iron Mou
 ntain Offroad Park\, Georgia Iron Mountain is chosen for its exceptional o
 ffroad infrastructure featuring diverse tracks\, trails\, and challenging 
 obstacles. The park supports camping\, offers cabin rentals\, and provides
  RV hookups to ensure a comfortable stay. Enjoy accessible facilities incl
 uding multiple restrooms and an on-site restaurant and bar.\n\nRegistratio
 n Requirements:\n\n 	Each Atlanta Raptors registration admits one vehicle.
  (Passengers are limited by the number of seatbelts.)\n 	Prior to event re
 gister each driver and rider on Iron Mountain’s website and fill out the
 ir waiver online prior to the event.\n\n\n 	\n\n 	https://ironmountainreso
 rt.com/park-passes/\n\n\n\nFees:\n\n 	Atlanta Raptors Roamers event fee wi
 ll be published closer to the time.\n 	Elite and Trailblazer members enjoy
  included event fees.\n\n\n 	\n\n 	Join today to enjoy the benefits!\n\n\n
 \n\n 	Iron Mountain Day Pass Fee: $36 per Person (9+ Years old)\, $10 Chil
 dren (3-8 years old) per day (excluding tax).\n\nEvent Schedule:\n\nSaturd
 ay:\n\nAtlanta Raptors and Iron Mountain Check-In: 8-9:00 AM\n\n 	\n\n 	Ch
 eck-in\n 	Prep vehicle (Air down\, strap up\, and be ready to ride)\n 	Sta
 rt your morning with donuts and coffee in the conference room.\n\n\n\n\n 	
 Morning safety briefing: 9:00 AM\n 	Official roll out: 9:45 AM\n\nParticip
 ants will be divided into 2-3 groups and rotate through the following duri
 ng the day. Lunch around 12pm at the restaurant.\n\nTurbo Track\n\n 	Chall
 enging 1 Miles loop with hair pin bens\, jumps\, and speed.\n\nThe America
 n Track (Closed circuit - Event use only)\n\n 	Challenging 1.4 Miles loop 
 with hair pin bens\, jumps\, and speed.\n\nTrail featuring endurance Chall
 enge\n\n 	Endurance Loop\, Hill Climbs\, and competitive sprints.\n\nNight
  Ride:\n\n 	Sunset viewing at ATL Overlook.\n 	Thrilling night trail run u
 sing your vehicle’s lights.\n\nEvening Festivities:\n\n 	Enjoy dinner an
 d drinks at the restaurant.\n 	Giveaways\n 	Bonfire with music\n\nSunday\n
 \nThe American Track 9am-12pm\n\n 	Enjoy another session at this closed tr
 ack\n 	Time trials with winner taking home the big prize\n\nHill Climbs 9a
 m-12pm\n\n 	More fun on these challenging hill climbs\n\nIron Mountain par
 k is yours to explore 8am-6pm\n\n 	Trails\, tracks\, hill climbs and more\
 n\nSafety and Requirements:\n\n 	Handheld Radio (frequencies: 151.820\, 15
 1.880\, 151.940)\; hard-wired suggested.\n 	Helmets and chase lights are r
 ecommended but not required.\n\nAdditional Information:\n\n 	Photography: 
 Event photographers and drone pilots will be capturing the excitement. Fee
 l free to take personal photos and videos.\n 	Facilities: Power supplies\,
  water\, and essential services available at camping sites.\n\n\n 	\n\n 	h
 ttps://ironmountainresort.com/campgrounds/\n\n\n\n\n 	Merchandise: Event-s
 pecific merchandise will be available for purchase.\n 	Support: For questi
 ons\, email info@atlraptors.com or refer to the FAQ section on our website
 .\n\nSign Up Today! Secure your spot for an unforgettable adventure and ra
 lly with fellow Atlanta Raptors members!
ATTACH;FMTTYPE=image/jpeg:https://atlraptors.com/wp-content/uploads/2025/0
 8/Raptor-Rampage-2026-Event-Poster-1.png
CATEGORIES:Offroad Park
LOCATION:Iron Mountain\, 116 Iron Mountain Parkway\, Dahlonega\, GA\, 30533
 \, United States
GEO:34.546986;-84.138147
X-APPLE-STRUCTURED-LOCATION;VALUE=URI;X-ADDRESS=116 Iron Mountain Parkway\,
  Dahlonega\, GA\, 30533\, United States;X-APPLE-RADIUS=100;X-TITLE=Iron Mo
 untain:geo:34.546986,-84.138147
END:VEVENT
BEGIN:VTIMEZONE
TZID:America/New_York
X-LIC-LOCATION:America/New_York
BEGIN:DAYLIGHT
DTSTART:20260308T030000
TZOFFSETFROM:-0500
TZOFFSETTO:-0400
TZNAME:EDT
END:DAYLIGHT
END:VTIMEZONE
END:VCALENDAR