BEGIN:VCALENDAR
VERSION:2.0
PRODID:-//wp-events-plugin.com//7.2.3.1//EN
TZID:America/New_York
X-WR-TIMEZONE:America/New_York
BEGIN:VEVENT
UID:30@atlraptors.com
DTSTART;TZID=America/New_York:20251024T000000
DTEND;TZID=America/New_York:20251025T000000
DTSTAMP:20250422T012522Z
URL:https://atlraptors.com/events/partner-event-rr-arizona-oct-2025/
SUMMARY:Partner Event - Raptor Rally Arizona Oct 2025
DESCRIPTION:Partner Event - Ford Performance\n\nMark your calendars! Join t
 he Ford Performance team for the second annual Raptor Rally\, a must-atten
 d event exclusively for F-150 Raptor\, Bronco Raptor\, and Ranger Raptor o
 wners. Whether you’re a seasoned off-road pro or just starting your adve
 nture\, we can't wait to see you there!
ATTACH;FMTTYPE=image/jpeg:https://atlraptors.com/wp-content/uploads/2025/0
 4/RR2025_1x1_V7-Small.png
CATEGORIES:Partner Events
LOCATION:https://raptorrallyrsvp.splashthat.com/
END:VEVENT
BEGIN:VTIMEZONE
TZID:America/New_York
X-LIC-LOCATION:America/New_York
BEGIN:DAYLIGHT
DTSTART:20250309T030000
TZOFFSETFROM:-0500
TZOFFSETTO:-0400
TZNAME:EDT
END:DAYLIGHT
END:VTIMEZONE
END:VCALENDAR