BEGIN:VCALENDAR
VERSION:2.0
PRODID:-//wp-events-plugin.com//7.2.3.1//EN
TZID:America/New_York
X-WR-TIMEZONE:America/New_York
BEGIN:VEVENT
UID:33@atlraptors.com
DTSTART;TZID=America/New_York:20260322T083000
DTEND;TZID=America/New_York:20260322T140000
DTSTAMP:20260315T162658Z
URL:https://atlraptors.com/events/novice-trail-day-north-georgia/
SUMMARY:Novice Trail day in North Georgia
DESCRIPTION:Join us for a Novice Trail Day covering trails in and around Tr
 ay Mountain (trails are still being decided).\n\nThis is open to everyone 
 with a Ford Raptor (Ranger\, Bronco\, and F-150).\n\nRegistration will req
 uire you to create a free Roamer account on this site.\n\nThis is perfect 
 for those of you wanting to better learn your truck in a more relaxed\, le
 ss intense set of trails. We will be going over the does and don't of offr
 oading\, as well as a walkthrough of recovery year\, radio operations\, an
 d even a trail based rescue demo.\n\nSchedule:\n8:15-8:30 am - Rally Point
  Meet up at NoFo Brew Co Cleaveland\, GA\n8:30 am - Radio setup and offroa
 d recovery tutorial:\n\nRadio setup and use tutorial\n\n 	Learn to program
  your radio to our frequently used frequencies\n 	Recovery gear showcase (
 We will demo use case on trial)\n\n9:15 am - Trail briefing and member int
 roduction.\n9:30 am - Start our guided trail\n1:00pm - 2:00pm: Return back
  to NoFo Brew Co Cleaveland\n\n 	Food Truck Lunch\n 	Socialize and wrap up
  day.\n\nPlease e-mail: info@atlraptors.com with any questions.
ATTACH;FMTTYPE=image/jpeg:https://atlraptors.com/wp-content/uploads/2023/0
 8/Trail-1-scaled.jpeg
CATEGORIES:Public Trails
LOCATION:NoFo Brewery - Cleveland\, 1939 Helen Hwy\, Cleveland\, GA \, 3052
 8\, United States
GEO:34.626864;-83.753258
X-APPLE-STRUCTURED-LOCATION;VALUE=URI;X-ADDRESS=1939 Helen Hwy\, Cleveland\
 , GA \, 30528\, United States;X-APPLE-RADIUS=100;X-TITLE=NoFo Brewery - Cl
 eveland:geo:34.626864,-83.753258
END:VEVENT
BEGIN:VTIMEZONE
TZID:America/New_York
X-LIC-LOCATION:America/New_York
BEGIN:DAYLIGHT
DTSTART:20260308T030000
TZOFFSETFROM:-0500
TZOFFSETTO:-0400
TZNAME:EDT
END:DAYLIGHT
END:VTIMEZONE
END:VCALENDAR