BEGIN:VCALENDAR
VERSION:2.0
PRODID:-//wp-events-plugin.com//7.2.3.1//EN
TZID:America/New_York
X-WR-TIMEZONE:America/New_York
BEGIN:VEVENT
UID:36@atlraptors.com
DTSTART;TZID=America/New_York:20251102T080000
DTEND;TZID=America/New_York:20251102T153000
DTSTAMP:20251101T171745Z
URL:https://atlraptors.com/events/2025-fall-georgia-traverse/
SUMMARY:Fall Colors on the Georgia Traverse
DESCRIPTION:Georgia Traverse: Cohutta–Amicalola Run\nDate: Sunday\, Novem
 ber 2nd\, 2025Start/End: Cartecay River Brewing Co.\, Ellijay\, GATrail Ti
 me: ~6–7 hoursTotal Duration: ~8:00 AM – 3:30 PMDifficulty: Easy–Mod
 erate (Raptor-friendly)\n\n\n\n\nEvent Overview\nJoin the Atlanta Raptors 
 for a full-day off-road adventure through the southern Cohutta and Amicalo
 la sections of the Georgia Traverse. This route offers everything from rol
 ling gravel roads and mild climbs to creek crossings and mountain overlook
 s — perfect terrain to enjoy the fall colors and test your Raptor’s ca
 pability in a relaxed convoy format.\nWe’ll start and end in Ellijay\, G
 A\, making it convenient for everyone returning home to Atlanta afterward.
  Expect about 6–7 hours on trail\, minimal pavement\, and plenty of scen
 ic stops along the way.\n\n\n\n\nSchedule\n8:00–8:30 AM — Meet-up at C
 artecay River Brewing Co. (Ellijay\, GA)Coffee\, fuel-up\, safety briefing
 \, and air down.\n8:45 AM — Depart for trail entrySpend the day explorin
 g the Georgia Traverse’s Cohutta Amicalola loop with designated regroup 
 points for breaks and photos.\n3:00–3:30 PM — Return to EllijayAir up\
 , refuel\, and enjoy a post-run drink or meal before heading back to Atlan
 ta (~90 min drive).\n\n\n\n\nWhat to Expect\n\n 	\n~80 miles of scenic for
 est roads and light off-road terrain\n\n 	\nMountain views\, fall colors\,
  and creek crossings\n\n 	\nGreat camaraderie with fellow Raptor owners\n\
 n 	\nStock-friendly route with optional light challenges\n\n\n\n\n\n🧭 R
 ecommended Gear - The team also does carry the essentials\n\n 	\nMURS radi
 o for comms (required) - Check out our blog on the subject \n\n 	\nRecove
 ry strap\, tire repair kit\, shovel\n\n 	\nFull-size spare and air compres
 sor\n\n 	\nSnacks\, lunch\, and water\n\n 	Weather layers — fall mountai
 n temps can drop quickly\n\n\n\n\n⚙️ Notes\n\n 	\nTrail is ~85–90% o
 ff-pavement with rolling terrain.\n\n 	\nExpect mild climbs\, packed grave
 l\, and light mud depending on weather.\n\n 	\nGroup pace: moderate\; mini
 mal pavement transitions.\n\n 	\nGreat fall foliage views — expect peak 
 colors in early November.\n\n
ATTACH;FMTTYPE=image/jpeg:https://atlraptors.com/wp-content/uploads/2023/0
 8/A37BF1D6-C74B-4C81-A1F7-00B1154236B1.jpg
LOCATION:Cartecay River Brewing Co.\, Ellijay\, GA\, 26 River Terrace\, Eas
 t Ellijay\, GA\, 30540 \, United States
GEO:34.682183;-84.491445
X-APPLE-STRUCTURED-LOCATION;VALUE=URI;X-ADDRESS=26 River Terrace\, East Ell
 ijay\, GA\, 30540 \, United States;X-APPLE-RADIUS=100;X-TITLE=Cartecay Riv
 er Brewing Co.\, Ellijay\, GA:geo:34.682183,-84.491445
END:VEVENT
BEGIN:VTIMEZONE
TZID:America/New_York
X-LIC-LOCATION:America/New_York
BEGIN:STANDARD
DTSTART:20251102T010000
TZOFFSETFROM:-0400
TZOFFSETTO:-0500
TZNAME:EST
END:STANDARD
END:VTIMEZONE
END:VCALENDAR