BEGIN:VCALENDAR
VERSION:2.0
PRODID:-//wp-events-plugin.com//7.2.3.1//EN
TZID:America/New_York
X-WR-TIMEZONE:America/New_York
BEGIN:VEVENT
UID:35@atlraptors.com
DTSTART;TZID=America/New_York:20251011T110000
DTEND;TZID=America/New_York:20251011T140000
DTSTAMP:20251007T134305Z
URL:https://atlraptors.com/events/%f0%9f%8f%81-atl-raptors-x-orw-monster-s
 ale-event/
SUMMARY:🏁 ATL RAPTORS x ORW MONSTER SALE EVENT
DESCRIPTION:📅 Saturday\, October 11th | 🕘 9:00 AM – 3:00 PM📍 Off
  Road Warehouse – Marietta📍 1395 South Marietta Pkwy SE\, Marietta\, 
 GA 30067🔧 On-site expert service and installation available\nGet ready\
 , Raptors — this Saturday we’re linking up with Off Road Warehouse (OR
 W) for their Monster Sale Event! This is your chance to score stackable sa
 vings across their entire lineup\, from lighting and suspension to accesso
 ries and wheels. Whether you’re looking to upgrade or just explore\, ORW
 ’s team will be on-site to help you dial in your next setup — and even
  install it.\n\n\n\n\n🎟️ RAFFLES + EXCLUSIVE RPG GIVEAWAY\nORW will b
 e hosting multiple raffles throughout the day\, and Atlanta Raptors member
 s have an exclusive shot at winning a premium RPG front &amp\; rear lift k
 it!✅ The RPG giveaway will happen only if we have 10 or more verified At
 lanta Raptors members signed up — so make sure to bring your crew!🎁 T
 he RPG kit provides a leveled stance without compromising performance or p
 utting extra stress on your suspension. It’s one of the best upgrades ou
 t there.\n📣 To participate in any raffle\, plan to arrive between 11:00
  AM and 2:00 PM — you must be present during that time window to be elig
 ible.\n\n\n\n\n💥 WHY YOU SHOULD GO\n\n 	\n💸 Save $25 for every $250 
 spent — stackable across your order\n\n 	\n🔧 Professional installatio
 n available on-site\n\n 	\n🤝 Meet fellow Atlanta Raptors members and co
 nnect with ORW’s expert staff\n\n 	\n🎁 Exclusive giveaways and brand 
 reps on site\n\n\n\n\n\n🧾 REQUIREMENTS TO PARTICIPATE\nTo unlock all de
 als and enter the raffles\, you must:\n\n\n 	\n🧾 Create an account at o
 ffroadwarehouse.com or in store.\n\n 	\n🏷️ In Store\, ask to Affiliat
 e your account with “Atlanta Raptors” for year-round savings\n\n 	\n
 ✅ Be a verified member at atlraptors.com\n\n\nOnly verified members will
  be eligible for exclusive raffle prizes (including the RPG kit) and futur
 e group discounts.\n\n\n\n\n🚙 LET’S ROLL OUT!\nThis is a great chance
  to save\, upgrade\, and hang out with the crew.📍 ORW Marietta – 1395
  S Marietta Pkwy SE\, Marietta\, GA 30067🕘 Event: 9:00 AM – 3:00 PM
 🎟️ Raffles: 11:00 AM – 2:00 PM\nLet’s show ORW what the Atlanta R
 aptors community is all about.See you there!
ATTACH;FMTTYPE=image/jpeg:https://atlraptors.com/wp-content/uploads/2025/1
 0/ORW-Monster-Sale-2025.png
END:VEVENT
BEGIN:VTIMEZONE
TZID:America/New_York
X-LIC-LOCATION:America/New_York
BEGIN:DAYLIGHT
DTSTART:20250309T030000
TZOFFSETFROM:-0500
TZOFFSETTO:-0400
TZNAME:EDT
END:DAYLIGHT
END:VTIMEZONE
END:VCALENDAR